BEGIN:VCALENDAR
VERSION:2.0
PRODID:-//Squarespace Inc/Squarespace 6//v6//EN
BEGIN:VEVENT
UID:5b7d255440ec9a4b734617d4@squarespace.com
DTSTAMP:20180822T085831Z
DTSTART:20181012T230000Z
DTEND:20181013T040000Z
SUMMARY:The Creators Market Domana Estate
GEO:-38.279831;145.067637
LOCATION:Dromana Estate\, 555 Old Moorooduc Road\, Tuerong\, VIC\, 3915\, A
 ustralia
END:VEVENT
END:VCALENDAR
