BEGIN:VCALENDAR
VERSION:2.0
PRODID:-//Squarespace Inc/Squarespace 6//v6//EN
BEGIN:VEVENT
UID:5b7d25c06d2a73947ed5174e@squarespace.com
DTSTAMP:20180822T085943Z
DTSTART:20181019T210000Z
DTEND:20181020T020000Z
SUMMARY:Dingley Farmers Market
GEO:36.114709;-97.059472
LOCATION:Dingley Farmers Market\, 31 Marcus Road\, Dingley Village\, VIC\, 
 3172\, Australia
END:VEVENT
END:VCALENDAR
