BEGIN:VCALENDAR
VERSION:2.0
PRODID:-//Squarespace Inc/Squarespace 6//v6//EN
BEGIN:VEVENT
UID:5bc6eed853450aa3a773cb75@squarespace.com
DTSTAMP:20181017T081334Z
DTSTART:20181020T030000Z
DTEND:20181020T080000Z
SUMMARY:Frankston Makers Market
GEO:-38.145086;145.12373
LOCATION:Frankston Makers Market\, Young Street\, Frankston\, VIC\, 3199\, 
 Australia
END:VEVENT
END:VCALENDAR
