BEGIN:VCALENDAR
VERSION:2.0
PRODID:-//Squarespace Inc/Squarespace 6//v6//EN
BEGIN:VEVENT
UID:5bc6f48d4785d32e9b302beb@squarespace.com
DTSTAMP:20181017T083812Z
DTSTART:20181021T000000Z
DTEND:20181021T060000Z
SUMMARY:Mornington Main Street Festival
GEO:-38.2228;145.040625
LOCATION:Mornington Main Street Festival\, Main Street\, Mornington\, VIC\, 
 3931\, Australia
END:VEVENT
END:VCALENDAR
