BEGIN:VCALENDAR
VERSION:2.0
PRODID:-//Squarespace Inc/Squarespace 6//v6//EN
BEGIN:VEVENT
UID:5b7d263c575d1f282cfd0e38@squarespace.com
DTSTAMP:20180822T090323Z
DTSTART:20181025T050000Z
DTEND:20181025T090000Z
SUMMARY:Eltham Twilight Spring Market
GEO:-37.71353;145.150166
LOCATION:Eltham Town Square\, Pryor Street\, Eltham\, VIC\, 3095\, Australi
 a
END:VEVENT
END:VCALENDAR
