BEGIN:VCALENDAR
VERSION:2.0
PRODID:-//Squarespace Inc/Squarespace 6//v6//EN
BEGIN:VEVENT
UID:5bc6f5291905f466b3435045@squarespace.com
DTSTAMP:20181017T084154Z
DTSTART:20181101T060000Z
DTEND:20181101T100000Z
SUMMARY:Moonlit Market Eastland
GEO:-37.812813;145.228884
LOCATION:Eastland\, 171 - 175 Maroondah Highway\, Ringwood\, VIC\, 3134\, A
 ustralia
END:VEVENT
END:VCALENDAR
