BEGIN:VCALENDAR
VERSION:2.0
PRODID:-//Squarespace Inc/Squarespace 6//v6//EN
BEGIN:VEVENT
UID:5bc6f61a4785d32e9b30359c@squarespace.com
DTSTAMP:20181017T084402Z
DTSTART:20181115T060000Z
DTEND:20181115T100000Z
SUMMARY:Moonlit Market Eastland
GEO:36.747744;-95.935363
LOCATION:Eastland\, 171-175 Maroondah Highway\, Ringwood\, VIC\, 3134\, Aus
 tralia
END:VEVENT
END:VCALENDAR
