BEGIN:VCALENDAR
VERSION:2.0
PRODID:-//Squarespace Inc/Squarespace 6//v6//EN
BEGIN:VEVENT
UID:5bc6f87e24a694b020e4c013@squarespace.com
DTSTAMP:20181017T085501Z
DTSTART:20181116T210000Z
DTEND:20181117T020000Z
SUMMARY:Dingley Farmers Market
GEO:-37.981888;145.135156
LOCATION:Dingley Village Farmers Market\, 31 Marcus Road\, Dingley Village\
 , VIC\, 3172\, Australia
END:VEVENT
END:VCALENDAR
