BEGIN:VCALENDAR
VERSION:2.0
PRODID:-//Squarespace Inc/Squarespace 6//v6//EN
BEGIN:VEVENT
UID:5b7d2256352f53a8a9b1efd2@squarespace.com
DTSTAMP:20180822T084505Z
DTSTART:20181116T223000Z
DTEND:20181117T040000Z
SUMMARY:Seddon Makers Market
GEO:-37.809626;144.890142
LOCATION:Seddon Uniting Church\, Gamon Street\, Seddon\, VIC\, 3011\, Austr
 alia
END:VEVENT
END:VCALENDAR
