BEGIN:VCALENDAR
VERSION:2.0
PRODID:-//Squarespace Inc/Squarespace 6//v6//EN
BEGIN:VEVENT
UID:5bc6f65224a694b020e4b319@squarespace.com
DTSTAMP:20181017T084457Z
DTSTART:20181122T060000Z
DTEND:20181122T100000Z
SUMMARY:Moonlit Market Eastland
GEO:36.747744;-95.935363
LOCATION:Eastland\, 171-175 Maroondah Highway\, Ringwood\, VIC\, 3134\, Aus
 tralia
END:VEVENT
END:VCALENDAR
