BEGIN:VCALENDAR
VERSION:2.0
PRODID:-//Squarespace Inc/Squarespace 6//v6//EN
BEGIN:VEVENT
UID:5bc6f5da652dea017c1f1dfe@squarespace.com
DTSTAMP:20181017T084258Z
DTSTART:20181108T060000Z
DTEND:20181108T100000Z
SUMMARY:Moonlit Market Eastland
GEO:-37.812813;145.228884
LOCATION:Eastland\, 171-175 Maroondah Highway\, Ringwood\, VIC\, 3134\, Aus
 tralia
END:VEVENT
END:VCALENDAR
