BEGIN:VCALENDAR
VERSION:2.0
PRODID:-//Squarespace Inc/Squarespace 6//v6//EN
BEGIN:VEVENT
UID:5a80e3b09140b73f5d514009@squarespace.com
DTSTAMP:20180212T005841Z
DTSTART:20180217T230000Z
DTEND:20180218T050000Z
SUMMARY:Melbourne Art Centre Market
GEO:-37.820089;144.968129
LOCATION:Melbourne Art Centre\, 100 Saint Kilda Road\, Melbourne\, Australi
 a
END:VEVENT
END:VCALENDAR
