BEGIN:VCALENDAR
VERSION:2.0
PRODID:-//Squarespace Inc/Squarespace 6//v6//EN
BEGIN:VEVENT
UID:5a80e286f9619ab1a97c6d9b@squarespace.com
DTSTAMP:20180212T004509Z
DTSTART:20180216T213000Z
DTEND:20180217T020000Z
SUMMARY:Dingley Village Farmers Market
GEO:-37.981658;145.134256
LOCATION:Dingley Village Farmers Market\, 31 Marcus Road\, Dingley Village\
 , VIC\, 3172\, Australia
END:VEVENT
END:VCALENDAR
