BEGIN:VCALENDAR
VERSION:2.0
PRODID:-//Squarespace Inc/Squarespace 6//v6//EN
BEGIN:VEVENT
UID:5a80e45f652deaf34008afe3@squarespace.com
DTSTAMP:20180212T004953Z
DTSTART:20180223T050000Z
DTEND:20180223T110000Z
SUMMARY:Geelong Nightjar
GEO:-38.141334;144.3555
LOCATION:Johnson Park\, Mercer Street\, Geelong\, VIC\, 3220\, Australia
END:VEVENT
END:VCALENDAR
