BEGIN:VCALENDAR
VERSION:2.0
PRODID:-//Squarespace Inc/Squarespace 6//v6//EN
BEGIN:VEVENT
UID:5a80e59424a694ef195dd02c@squarespace.com
DTSTAMP:20180212T005559Z
DTSTART:20180224T060000Z
DTEND:20180224T093000Z
SUMMARY:Yarra Valley Film Festival
GEO:-37.748947;145.357583
LOCATION:Yarra Valley Film Festival\, 120 Anderson Street\, Lilydale\, VIC\
 , 3140\, Australia
END:VEVENT
END:VCALENDAR
