BEGIN:VCALENDAR
VERSION:2.0
PRODID:-//Squarespace Inc/Squarespace 6//v6//EN
BEGIN:VEVENT
UID:5a9f509271c10bf6d3710481@squarespace.com
DTSTAMP:20180307T024157Z
DTSTART:20180309T220000Z
DTEND:20180310T030000Z
SUMMARY:Point Nepean Portsea Market
GEO:-38.370873;144.824997
LOCATION:The Quarantine Station\, Point Nepean Road\, Point Nepean\, Austra
 lia
END:VEVENT
END:VCALENDAR
