BEGIN:VCALENDAR
VERSION:2.0
PRODID:-//Squarespace Inc/Squarespace 6//v6//EN
BEGIN:VEVENT
UID:5a9f5190ec212da6462c5cf9@squarespace.com
DTSTAMP:20180307T024443Z
DTSTART:20180311T230000Z
DTEND:20180312T070000Z
SUMMARY:Somerville Family Day
GEO:-38.224754;145.173967
LOCATION:Fruit Growers Reserve\, Edward Street\, Somerville\, VIC\, 3912\, 
 Australia
END:VEVENT
END:VCALENDAR
