BEGIN:VCALENDAR
VERSION:2.0
PRODID:-//Squarespace Inc/Squarespace 6//v6//EN
BEGIN:VEVENT
UID:5a9f522be2c48331b47b0274@squarespace.com
DTSTAMP:20180307T024625Z
DTSTART:20180316T213000Z
DTEND:20180317T020000Z
SUMMARY:Dingley Village Farmers Market
GEO:-37.981658;145.134256
LOCATION:Dingley Village Farmers Market\, 31 Marcus Road\, Dingley Village\
 , VIC\, 3172\, Australia
END:VEVENT
END:VCALENDAR
