BEGIN:VCALENDAR
VERSION:2.0
PRODID:-//Squarespace Inc/Squarespace 6//v6//EN
BEGIN:VEVENT
UID:5a9f528be4966b2fb98976eb@squarespace.com
DTSTAMP:20180307T024746Z
DTSTART:20180317T230000Z
DTEND:20180318T050000Z
SUMMARY:Melbourne Art Centre Market
GEO:-37.8202;144.967895
LOCATION:Melbourne Art Centre\, 100 Saint Kilda Road\, Southbank\, VIC\, 30
 06\, Australia
END:VEVENT
END:VCALENDAR
