BEGIN:VCALENDAR
VERSION:2.0
PRODID:-//Squarespace Inc/Squarespace 6//v6//EN
BEGIN:VEVENT
UID:5a9f5618652dea8c73a6efbd@squarespace.com
DTSTAMP:20180307T030553Z
DTSTART:20180322T050000Z
DTEND:20180322T090000Z
SUMMARY:Eltham Twilight Easter Market
GEO:-37.715258;145.155729
LOCATION:Eltham Town Square\, Arthur Street\, Eltham\, VIC\, 3095\, Austral
 ia
END:VEVENT
END:VCALENDAR
