BEGIN:VCALENDAR
VERSION:2.0
PRODID:-//Squarespace Inc/Squarespace 6//v6//EN
BEGIN:VEVENT
UID:5a9f571de2c48331b47c214d@squarespace.com
DTSTAMP:20180307T031002Z
DTSTART:20180323T060000Z
DTEND:20180323T100000Z
SUMMARY:Chirnside Park Twilight Market
GEO:-37.758142;145.312562
LOCATION:Chirnside Park Shopping Centre\, 239 Maroondah Highway\, Chirnside 
 Park\, VIC\, 3116\, Australia
END:VEVENT
END:VCALENDAR
