BEGIN:VCALENDAR
VERSION:2.0
PRODID:-//Squarespace Inc/Squarespace 6//v6//EN
BEGIN:VEVENT
UID:5a9f58be419202557d98322e@squarespace.com
DTSTAMP:20180307T034618Z
DTSTART:20180324T230000Z
DTEND:20180325T040000Z
SUMMARY:Merlynston Makers Market
GEO:-37.719862;144.960154
LOCATION:Bain Reserve\, Merlyn Street\, Coburg North\, VIC\, 3058\, Austral
 ia
END:VEVENT
END:VCALENDAR
