BEGIN:VCALENDAR
VERSION:2.0
PRODID:-//Squarespace Inc/Squarespace 6//v6//EN
BEGIN:VEVENT
UID:5a80e637652deaf340092737@squarespace.com
DTSTAMP:20180212T005820Z
DTSTART:20180303T230000Z
DTEND:20180304T050000Z
SUMMARY:Melbourne Art Centre
GEO:-37.820089;144.968129
LOCATION:Melbourne Art Centre\, 100 Saint Kilda Road\, Melbourne\, Australi
 a
END:VEVENT
END:VCALENDAR
