BEGIN:VCALENDAR
VERSION:2.0
PRODID:-//Squarespace Inc/Squarespace 6//v6//EN
BEGIN:VEVENT
UID:5a9f5c1371c10bf6d373a39f@squarespace.com
DTSTAMP:20180307T034706Z
DTSTART:20180324T230000Z
DTEND:20180325T090000Z
SUMMARY:Harveast Eastland
GEO:-37.812753;145.228816
LOCATION:Eastland\, 175 Maroondah Highway\, Ringwood\, VIC\, 3134\, Austral
 ia
END:VEVENT
END:VCALENDAR
