BEGIN:VCALENDAR
VERSION:2.0
PRODID:-//Squarespace Inc/Squarespace 6//v6//EN
BEGIN:VEVENT
UID:5b7d215e0e2e7203f2542ada@squarespace.com
DTSTAMP:20180822T084142Z
DTSTART:20180831T233000Z
DTEND:20180901T050000Z
SUMMARY:Seddon Makers Market
GEO:-37.808932;144.890002
LOCATION:Seddon Uniting Church\, Gamon Street\, Seddon\, VIC\, 3011\, Austr
 alia
END:VEVENT
END:VCALENDAR
