BEGIN:VCALENDAR
VERSION:2.0
PRODID:-//Squarespace Inc/Squarespace 6//v6//EN
BEGIN:VEVENT
UID:5b7d22a34fa51a2d3acc5eba@squarespace.com
DTSTAMP:20180822T084746Z
DTSTART:20180914T220000Z
DTEND:20180915T030000Z
SUMMARY:Dingley Farmers Market
GEO:-37.981888;145.135156
LOCATION:Dingley Farmers Market\, 31 Marcus Road\, Dingley Village\, VIC\, 
 3172\, Australia
END:VEVENT
END:VCALENDAR
