BEGIN:VCALENDAR
VERSION:2.0
PRODID:-//Squarespace Inc/Squarespace 6//v6//EN
BEGIN:VEVENT
UID:5b7d234321c67cccfdf5aac8@squarespace.com
DTSTAMP:20180822T085248Z
DTSTART:20180922T230000Z
DTEND:20180923T040000Z
SUMMARY:The Island Market
GEO:-38.45232;145.247349
LOCATION:Cowes Leisure YMCA\, 10 -1 4 Church Street\, Cowes\, VIC\, 3922\, 
 Australia
END:VEVENT
END:VCALENDAR
