BEGIN:VCALENDAR
VERSION:2.0
PRODID:-//Squarespace Inc/Squarespace 6//v6//EN
BEGIN:VEVENT
UID:5b7d246d03ce64d96fe3dea5@squarespace.com
DTSTAMP:20180822T085453Z
DTSTART:20180930T000000Z
DTEND:20180930T050000Z
SUMMARY:The Mermaid Makers Market
GEO:-38.1201;145.133876
LOCATION:Frankston Basketball Stadium\, 90 Bardia Avenue\, Seaford\, VIC\, 
 3199\, Australia
END:VEVENT
END:VCALENDAR
