BEGIN:VCALENDAR
VERSION:2.0
PRODID:-//Squarespace Inc/Squarespace 6//v6//EN
BEGIN:VEVENT
UID:5b7d21d1562fa73ad4805ccf@squarespace.com
DTSTAMP:20180822T084342Z
DTSTART:20180908T000000Z
DTEND:20180908T050000Z
SUMMARY:Heide Makers Market
GEO:-37.759014;145.083196
LOCATION:Heide Museum of Modern Art\, 7 Templestowe Road\, Bulleen\, VIC\, 
 3105\, Australia
END:VEVENT
END:VCALENDAR
